BEGIN:VCALENDAR
PRODID:-//AT Content Types//AT Event//EN
VERSION:1.0
BEGIN:VEVENT
DTSTART:20161008T120000Z
DTEND:20161009T210000Z
DCREATED:20151112T151916Z
UID:ATEvent-7b141347-d4ba-42c9-998f-b55da7a01742
SEQUENCE:0
LAST-MODIFIED:20151112T151916Z
SUMMARY:Carolina Carriage Club Show
LOCATION:FENCE Equestrian Side
PRIORITY:3
TRANSP:0
END:VEVENT
END:VCALENDAR
