BEGIN:VCALENDAR
PRODID:-//AT Content Types//AT Event//EN
VERSION:2.0
METHOD:PUBLISH
BEGIN:VEVENT
DTSTAMP:20260423T120103Z
CREATED:20210127T134915Z
UID:ATEvent-f1644af1b276450b8463ab4b5fe1f4c1
LAST-MODIFIED:20211015T145134Z
SUMMARY:Carolina Carriage Club Show- canceled
DTSTART:20211016T120000Z
DTEND:20211017T200000Z
LOCATION:FENCE Equestrian Side
CATEGORIES:Horse Show
CLASS:PUBLIC
END:VEVENT
END:VCALENDAR
