BEGIN:VCALENDAR
PRODID:-//AT Content Types//AT Event//EN
VERSION:2.0
METHOD:PUBLISH
BEGIN:VEVENT
DTSTAMP:20260423T191733Z
CREATED:20160724T005100Z
UID:ATEvent-bbbc615b78bc48d4ad4f69f18eea9b5f
LAST-MODIFIED:20160724T121653Z
SUMMARY:Cancelation of Mounted Poker Run due to extreme heat
DTSTART:20160724T040000Z
DTEND:20160724T180000Z
DESCRIPTION:FENCE is concerned of the safety for the riders and horses
  due to extreme heat and humidity. Therefore after careful considerati
 on we have opted to cancel this event.
CATEGORIES:Family
CLASS:PUBLIC
END:VEVENT
END:VCALENDAR
