BEGIN:VCALENDAR
PRODID:-//AT Content Types//AT Event//EN
VERSION:2.0
METHOD:PUBLISH
BEGIN:VEVENT
DTSTAMP:20260423T131059Z
CREATED:20150219T194900Z
UID:ATEvent-b1a5568e-a822-4c0e-98b9-f5b44937b6d7
LAST-MODIFIED:20150219T194901Z
SUMMARY:Cal Middleton Clinic
DTSTART:20150418T130000Z
DTEND:20150419T210000Z
DESCRIPTION:Besides being a Res. World Champion in Reining\, Cal has a
 lso competed in Cutting,\nDressage\, Western Dressage\, Working Cowhor
 se and Roping.\nCal is a writer\, an NRHA Judge\, a passionate colt st
 arter\, a MASTER HORSEMAN and an\nincredible teacher. Come and let him
  help you with whatever your equine goals may be.
LOCATION:FENCE Equestrian Side
CATEGORIES:Clinic
CONTACT:Paige Cooley\, 864-385-9734
URL:http://www.calmiddleton.com
CLASS:PUBLIC
END:VEVENT
END:VCALENDAR
