BEGIN:VCALENDAR
PRODID:-//AT Content Types//AT Event//EN
VERSION:2.0
METHOD:PUBLISH
BEGIN:VEVENT
DTSTAMP:20260423T114602Z
CREATED:20190717T141038Z
UID:ATEvent-21d08bf904fd4fb69e9ca314fc65be71
LAST-MODIFIED:20190726T182311Z
SUMMARY:Button Baker
DTSTART:20190727T120000Z
DTEND:20190728T210000Z
DESCRIPTION:Schedule for the clinic for those that would like to audit
 . Cost is $10 each day\nSaturday\, 10AM - 3PM with a break from 12PM-1
 PM\nSunday\, 9AM - 3PM with a break from 12PM-1PM
LOCATION:FENCE EQ Covered Arena
CATEGORIES:Clinic
CONTACT:Tracie Hanson\, 8288173594\, admin@fence.org
CLASS:PUBLIC
END:VEVENT
END:VCALENDAR
