BEGIN:VCALENDAR
PRODID:-//AT Content Types//AT Event//EN
VERSION:2.0
METHOD:PUBLISH
BEGIN:VEVENT
DTSTAMP:20260423T105355Z
CREATED:20170105T175400Z
UID:ATEvent-798f528ea5484e7099f4e6553bee45a1
LAST-MODIFIED:20170719T184020Z
SUMMARY:Cancelled - Butterfly Workshop with Simon Thompson
DTSTART:20170727T140000Z
DTEND:20170727T160000Z
LOCATION:FENCE Center
CATEGORIES:Training
CONTACT:Tracie Hanson\, 8288599021\, info@fence.org
CLASS:PUBLIC
END:VEVENT
END:VCALENDAR
