BEGIN:VCALENDAR
PRODID:-//AT Content Types//AT Event//EN
VERSION:2.0
METHOD:PUBLISH
BEGIN:VEVENT
DTSTAMP:20260423T105034Z
CREATED:20150114T185230Z
UID:ATEvent-10999f95-8080-4478-a7dc-fc780e2b3e56
LAST-MODIFIED:20150114T185230Z
SUMMARY:BRHJA
DTSTART:20150612T120000Z
DTEND:20150614T200000Z
LOCATION:FENCE Equestrian Side
CATEGORIES:Horse Show
CONTACT:Lewis Pack\, 828-894-2721\, harmonclassics@aol.com
CLASS:PUBLIC
END:VEVENT
END:VCALENDAR
