BEGIN:VCALENDAR
PRODID:-//AT Content Types//AT Event//EN
VERSION:2.0
METHOD:PUBLISH
BEGIN:VEVENT
DTSTAMP:20260423T154813Z
CREATED:20170105T171134Z
UID:ATEvent-cbc624453c8a4aa7afdf47de9e24003f
LAST-MODIFIED:20170105T171134Z
SUMMARY:BRHJA Mother's Day Celebration
DTSTART:20170505T120000Z
DTEND:20170507T210000Z
LOCATION:FENCE Equestrian Side
CATEGORIES:Horse Show
URL:http://http://www.harmonclassics.com/
CLASS:PUBLIC
END:VEVENT
END:VCALENDAR
