BEGIN:VCALENDAR
PRODID:-//AT Content Types//AT Event//EN
VERSION:2.0
METHOD:PUBLISH
BEGIN:VEVENT
DTSTAMP:20260423T115008Z
CREATED:20210402T193302Z
UID:ATEvent-f77f38027852405d931399a51c8abb0a
LAST-MODIFIED:20210402T193302Z
SUMMARY:BRHJA Classic
DTSTART:20210425T120000Z
DTEND:20210425T210000Z
LOCATION:FENCE Equestrian Side
CATEGORIES:Horse Show
URL:http://www.https://harmonclassics.com/shows
CLASS:PUBLIC
END:VEVENT
END:VCALENDAR
