BEGIN:VCALENDAR
PRODID:-//AT Content Types//AT Event//EN
VERSION:2.0
METHOD:PUBLISH
BEGIN:VEVENT
DTSTAMP:20260423T130956Z
CREATED:20210127T135753Z
UID:ATEvent-b3d22f3689144227b434f6aa7794af53
LAST-MODIFIED:20210127T135753Z
SUMMARY:BRHJA Classic
DTSTART:20211029T120000Z
DTEND:20211031T210000Z
LOCATION:FENCE Equestrian Side
CATEGORIES:Horse Show
URL:http://www.https://harmonclassics.com/shows
CLASS:PUBLIC
END:VEVENT
END:VCALENDAR
