BEGIN:VCALENDAR
PRODID:-//AT Content Types//AT Event//EN
VERSION:2.0
METHOD:PUBLISH
BEGIN:VEVENT
DTSTAMP:20260423T142107Z
CREATED:20200110T213320Z
UID:ATEvent-3506809243174c43b2ec749734e91233
LAST-MODIFIED:20200110T213320Z
SUMMARY:BRHJA Classic
DTSTART:20201023T120000Z
DTEND:20201025T210000Z
LOCATION:FENCE Equestrian Side
CATEGORIES:Horse Show
URL:http://www.https://harmonclassics.com/shows
CLASS:PUBLIC
END:VEVENT
END:VCALENDAR
