BEGIN:VCALENDAR
PRODID:-//AT Content Types//AT Event//EN
VERSION:1.0
BEGIN:VEVENT
DTSTART:20181026T120000Z
DTEND:20181028T210000Z
DCREATED:20180116T162818Z
UID:ATEvent-9a398dade2f54fbe8445d36b84dce5ac
SEQUENCE:0
LAST-MODIFIED:20180116T162818Z
SUMMARY:BRHJA Classic
DESCRIPTION:BRHJA Classic sanctioned by BRHJA\, SCHJA\, NCHJA\, PSJ
LOCATION:FENCE Equestrian Side
PRIORITY:3
TRANSP:0
END:VEVENT
END:VCALENDAR
