BEGIN:VCALENDAR
PRODID:-//AT Content Types//AT Event//EN
VERSION:1.0
BEGIN:VEVENT
DTSTART:20221028T110000Z
DTEND:20221030T220000Z
DCREATED:20211213T173653Z
UID:ATEvent-0317fc065ac74498aadfef11765e73cc
SEQUENCE:0
LAST-MODIFIED:20211213T173653Z
SUMMARY:BRHJ
LOCATION:Equestrian side
PRIORITY:3
TRANSP:0
END:VEVENT
END:VCALENDAR
