BEGIN:VCALENDAR
PRODID:-//AT Content Types//AT Event//EN
VERSION:2.0
METHOD:PUBLISH
BEGIN:VEVENT
DTSTAMP:20260423T130702Z
CREATED:20180116T152556Z
UID:ATEvent-4223ed79c2f64425af254f87b77a922c
LAST-MODIFIED:20180123T154709Z
SUMMARY:BRAC Show
DTSTART:20180420T120000Z
DTEND:20180422T210000Z
DESCRIPTION:Blue Ridge Dog Agility Show
LOCATION:FENCE Equestrian Side
CATEGORIES:Dog Show
CONTACT:info@fence.org
CLASS:PUBLIC
END:VEVENT
END:VCALENDAR
