BEGIN:VCALENDAR
PRODID:-//AT Content Types//AT Event//EN
VERSION:1.0
BEGIN:VEVENT
DTSTART:20180823T120000Z
DTEND:20180826T210000Z
DCREATED:20180209T213749Z
UID:ATEvent-7979a81bf8134d0a9710d51a316184b0
SEQUENCE:0
LAST-MODIFIED:20180726T131935Z
SUMMARY:BRAC Show
LOCATION:FENCE Equestrian Side
PRIORITY:3
TRANSP:0
END:VEVENT
END:VCALENDAR
