BEGIN:VCALENDAR
PRODID:-//AT Content Types//AT Event//EN
VERSION:1.0
BEGIN:VEVENT
DTSTART:20241104T130000Z
DTEND:20241104T220000Z
DCREATED:20240105T133454Z
UID:ATEvent-8683aba88de640dfbc0edb75ffbe306b
SEQUENCE:0
LAST-MODIFIED:20240105T133454Z
SUMMARY:BRAC Clinic
LOCATION:FENCE Center
PRIORITY:3
TRANSP:0
END:VEVENT
END:VCALENDAR
