BEGIN:VCALENDAR
PRODID:-//AT Content Types//AT Event//EN
VERSION:2.0
METHOD:PUBLISH
BEGIN:VEVENT
DTSTAMP:20260423T130702Z
CREATED:20251217T181602Z
UID:ATEvent-e9cba7d840014da9a0b32c95dcd05f45
LAST-MODIFIED:20251217T181602Z
SUMMARY:BRAC
DTSTART:20260910T120000Z
DTEND:20260913T210000Z
CATEGORIES:Dog Show
CONTACT:Lynn Hurley\, 8285819405\, lynn@waggingtailsmassage.com
CLASS:PUBLIC
END:VEVENT
END:VCALENDAR
