BEGIN:VCALENDAR
PRODID:-//AT Content Types//AT Event//EN
VERSION:1.0
BEGIN:VEVENT
DTSTART:20240912T120000Z
DTEND:20240915T210000Z
DCREATED:20231211T203008Z
UID:ATEvent-5690cd2f9bd141b9afccbc10c4ab2567
SEQUENCE:0
LAST-MODIFIED:20240105T133528Z
SUMMARY:BRAC
LOCATION:FENCE Center
PRIORITY:3
TRANSP:0
END:VEVENT
END:VCALENDAR
