BEGIN:VCALENDAR
PRODID:-//AT Content Types//AT Event//EN
VERSION:1.0
BEGIN:VEVENT
DTSTART:20130914T120000Z
DTEND:20130915T220000Z
DCREATED:20121007T145231Z
UID:ATEvent-4522af46-b54e-498d-933e-795ff27d5ae2
SEQUENCE:0
LAST-MODIFIED:20130821T202113Z
SUMMARY:Borderline Dressage
LOCATION:FENCE EQ
PRIORITY:3
TRANSP:0
END:VEVENT
END:VCALENDAR
