BEGIN:VCALENDAR
PRODID:-//AT Content Types//AT Event//EN
VERSION:1.0
BEGIN:VEVENT
DTSTART:20140912T120000Z
DTEND:20140914T210000Z
DCREATED:20140103T194729Z
UID:ATEvent-8cedf50a-13eb-42da-9eda-c5cd3c6ab04b
SEQUENCE:0
LAST-MODIFIED:20140728T135835Z
SUMMARY:Borderline Dressage
PRIORITY:3
TRANSP:0
END:VEVENT
END:VCALENDAR
