BEGIN:VCALENDAR
PRODID:-//AT Content Types//AT Event//EN
VERSION:2.0
METHOD:PUBLISH
BEGIN:VEVENT
DTSTAMP:20260423T142411Z
CREATED:20170308T141302Z
UID:ATEvent-5d7b3ccabf744c00a801c48be343b208
LAST-MODIFIED:20170517T160005Z
SUMMARY:Bomb Proofing Your Horse Clinic
DTSTART:20170611T130000Z
DTEND:20170611T210000Z
DESCRIPTION:This bombproofing clinic will focus on building a foundati
 on of trust\, respect and confidence between the horse its rider.  The
  techniques are easy to learn for anyone and can be taught to any type
  of horse\, regardless of age\, breed or training level.  Develop a de
 eper trust by exposing your horse to a variety of "SPOOKY" objects in 
 a safe\, calm environment. \n\nThis is a beginner’s level clinic.  B
 asic obstacles that can be done in-hand or under saddle.  Auditors are
  welcome (bring a chair).\n\nCLINICIAN: Janine Stenson	\nJudged Pleasu
 re Ride Obstacle Course Designer\, CHA Certified\, PATH Member\, Red C
 ross CPR\, First Aid and AED Certified
LOCATION:FENCE Equestrian Side
CATEGORIES:Clinic
CONTACT:Tracie Hanson\, 828-859-9021\, info@fence.org
CLASS:PUBLIC
END:VEVENT
END:VCALENDAR
