BEGIN:VCALENDAR
PRODID:-//AT Content Types//AT Event//EN
VERSION:2.0
METHOD:PUBLISH
BEGIN:VEVENT
DTSTAMP:20260423T142307Z
CREATED:20241115T163507Z
UID:ATEvent-9ec1fa92d8a84f3592d13c1c0c590c6d
LAST-MODIFIED:20241219T152605Z
SUMMARY:Progressive Show Jumping
DTSTART:20250502T130000Z
DTEND:20250504T210000Z
LOCATION:FENCE Equestrian
CATEGORIES:Horse Show
CONTACT:Rick Cram
URL:https://psjshows.com
CLASS:PUBLIC
END:VEVENT
END:VCALENDAR
