BEGIN:VCALENDAR
PRODID:-//AT Content Types//AT Event//EN
VERSION:1.0
BEGIN:VEVENT
DTSTART:20251017T120000Z
DTEND:20251019T215500Z
DCREATED:20241119T154240Z
UID:ATEvent-1b4e8b97818641eaa142ae9d6a08a978
SEQUENCE:0
LAST-MODIFIED:20241219T205527Z
SUMMARY:Progressive Show Jumpers
PRIORITY:3
TRANSP:0
END:VEVENT
END:VCALENDAR
