BEGIN:VCALENDAR
PRODID:-//AT Content Types//AT Event//EN
VERSION:2.0
METHOD:PUBLISH
BEGIN:VEVENT
DTSTAMP:20260423T115207Z
CREATED:20190123T134536Z
UID:ATEvent-9a7128f94da04673b2fd02ef95bb060e
LAST-MODIFIED:20190123T134536Z
SUMMARY:Blue Ridge Hunter Jumper
DTSTART:20190831T120000Z
DTEND:20191001T210000Z
LOCATION:FENCE Equestrian Side
CONTACT:Lewis Pack
URL:http://www.brhja.com
CLASS:PUBLIC
END:VEVENT
END:VCALENDAR
