BEGIN:VCALENDAR
PRODID:-//AT Content Types//AT Event//EN
VERSION:1.0
BEGIN:VEVENT
DTSTART:20250705T120000Z
DTEND:20250706T220000Z
DCREATED:20250619T155347Z
UID:ATEvent-4f1480a3349a468b98056729cf4c685e
SEQUENCE:0
LAST-MODIFIED:20250619T155347Z
SUMMARY:Blue Ridge Hunter Jumper
PRIORITY:3
TRANSP:0
END:VEVENT
END:VCALENDAR
