BEGIN:VCALENDAR
PRODID:-//AT Content Types//AT Event//EN
VERSION:2.0
METHOD:PUBLISH
BEGIN:VEVENT
DTSTAMP:20260423T142307Z
CREATED:20190123T144329Z
UID:ATEvent-c1ee5cd523c640718a7c7ba5b948a5fc
LAST-MODIFIED:20190221T152908Z
SUMMARY:BRHJA Classic
DTSTART:20191025T120000Z
DTEND:20191027T210000Z
LOCATION:FENCE Equestrian Side
CATEGORIES:Horse Show
CONTACT:Lewis Pack
URL:https://harmonclassics.com
CLASS:PUBLIC
END:VEVENT
END:VCALENDAR
