BEGIN:VCALENDAR
PRODID:-//AT Content Types//AT Event//EN
VERSION:2.0
METHOD:PUBLISH
BEGIN:VEVENT
DTSTAMP:20260423T191335Z
CREATED:20190123T140724Z
UID:ATEvent-b93fddb474ae46b8a0b2409cdd0111d1
LAST-MODIFIED:20190221T152811Z
SUMMARY:Harmon Classics Labor Day Spectacular
DTSTART:20190831T120000Z
DTEND:20190901T210000Z
LOCATION:FENCE Equestrian Side
CATEGORIES:Horse Show
CONTACT:Lewis Pack
URL:https://harmonclassics.com
CLASS:PUBLIC
END:VEVENT
END:VCALENDAR
