BEGIN:VCALENDAR
PRODID:-//AT Content Types//AT Event//EN
VERSION:2.0
METHOD:PUBLISH
BEGIN:VEVENT
DTSTAMP:20260423T140953Z
CREATED:20190122T212400Z
UID:ATEvent-7333f6f8c87d4496aedbbfd62d955603
LAST-MODIFIED:20190523T133223Z
SUMMARY:Blue Ridge Escarpment Talk
DTSTART:20190608T150000Z
DTEND:20190608T160000Z
DESCRIPTION:Naturalist Tim Lee will give a presentation on the Blue Ri
 dge Escarpment.
LOCATION:FENCE Center
CATEGORIES:Nature Program
CONTACT:828-859-9021\, info@fence.org
CLASS:PUBLIC
END:VEVENT
END:VCALENDAR
