BEGIN:VCALENDAR
PRODID:-//AT Content Types//AT Event//EN
VERSION:2.0
METHOD:PUBLISH
BEGIN:VEVENT
DTSTAMP:20260423T131151Z
CREATED:20140103T192411Z
UID:ATEvent-fa8e5a80-2282-4cae-ad59-54cb5b1d1d3b
LAST-MODIFIED:20140103T192411Z
SUMMARY:Blue Ridge Dog Agility
DTSTART:20140425T120000Z
DTEND:20140427T210000Z
CATEGORIES:Dog Show
CLASS:PUBLIC
END:VEVENT
END:VCALENDAR
