BEGIN:VCALENDAR
PRODID:-//AT Content Types//AT Event//EN
VERSION:1.0
BEGIN:VEVENT
DTSTART:20130425T120000Z
DTEND:20130428T210000Z
DCREATED:20130422T162501Z
UID:ATEvent-e22787b6-36de-4b3b-a8e1-7cf7503e5d7d
SEQUENCE:0
LAST-MODIFIED:20130422T163029Z
SUMMARY:Blue Ridge Dog Agility Show
LOCATION:Fence EQ side
PRIORITY:3
TRANSP:0
END:VEVENT
END:VCALENDAR
