BEGIN:VCALENDAR
PRODID:-//AT Content Types//AT Event//EN
VERSION:1.0
BEGIN:VEVENT
DTSTART:20130822T120000Z
DTEND:20130826T210000Z
DCREATED:20130315T205719Z
UID:ATEvent-3e64eb9f-fc08-47ed-a451-396818ccdfa1
SEQUENCE:0
LAST-MODIFIED:20130315T205719Z
SUMMARY:Blue Ridge Dog Agility Clinic
PRIORITY:3
TRANSP:0
END:VEVENT
END:VCALENDAR
