BEGIN:VCALENDAR
PRODID:-//AT Content Types//AT Event//EN
VERSION:2.0
METHOD:PUBLISH
BEGIN:VEVENT
DTSTAMP:20260423T105515Z
CREATED:20170105T172931Z
UID:ATEvent-e3b9c5db07bc49a78d71e0de4d7e13dc
LAST-MODIFIED:20170105T172932Z
SUMMARY:Blue Ridge Dog Agility
DTSTART:20170421T120000Z
DTEND:20170423T210000Z
LOCATION:FENCE Equestrian Side
CATEGORIES:Dog Show
CLASS:PUBLIC
END:VEVENT
END:VCALENDAR
