BEGIN:VCALENDAR
PRODID:-//AT Content Types//AT Event//EN
VERSION:1.0
BEGIN:VEVENT
DTSTART:20160930T120000Z
DTEND:20161002T210000Z
DCREATED:20151112T151751Z
UID:ATEvent-7c3fcaa5-ffbf-4e6c-bcad-91b86d9291a4
SEQUENCE:0
LAST-MODIFIED:20151112T151752Z
SUMMARY:Blue Ridge Dog Agility
LOCATION:FENCE Equestrian Side
PRIORITY:3
TRANSP:0
END:VEVENT
END:VCALENDAR
