BEGIN:VCALENDAR
PRODID:-//AT Content Types//AT Event//EN
VERSION:2.0
METHOD:PUBLISH
BEGIN:VEVENT
DTSTAMP:20260423T105550Z
CREATED:20151110T205107Z
UID:ATEvent-459f012a-3b6b-4dfc-91ca-9640a22b02b5
LAST-MODIFIED:20151110T205107Z
SUMMARY:Blue Ridge Dog Agility
DTSTART:20160819T130000Z
DTEND:20160822T210000Z
LOCATION:FENCE Equestrian Side
CATEGORIES:Dog Show
CLASS:PUBLIC
END:VEVENT
END:VCALENDAR
