BEGIN:VCALENDAR
PRODID:-//AT Content Types//AT Event//EN
VERSION:2.0
METHOD:PUBLISH
BEGIN:VEVENT
DTSTAMP:20260423T131329Z
CREATED:20151026T194534Z
UID:ATEvent-9a7861fc-6db7-4c41-bbe0-7462a7ad33c7
LAST-MODIFIED:20151026T194534Z
SUMMARY:Blue Ridge Dog Agility
DTSTART:20160422T120000Z
DTEND:20160424T210000Z
LOCATION:FENCE Equestrian Side
CATEGORIES:Dog Show
CLASS:PUBLIC
END:VEVENT
END:VCALENDAR
