BEGIN:VCALENDAR
PRODID:-//AT Content Types//AT Event//EN
VERSION:2.0
METHOD:PUBLISH
BEGIN:VEVENT
DTSTAMP:20260423T142307Z
CREATED:20150714T175953Z
UID:ATEvent-b7918e2b-3980-4ba7-bc51-a720848548bc
LAST-MODIFIED:20150714T180020Z
SUMMARY:Blue Ridge Dog Agility
DTSTART:20151002T130000Z
DTEND:20151004T210000Z
LOCATION:FENCE Equestrian Side
CATEGORIES:Dog Show
CLASS:PUBLIC
END:VEVENT
END:VCALENDAR
