BEGIN:VCALENDAR
PRODID:-//AT Content Types//AT Event//EN
VERSION:2.0
METHOD:PUBLISH
BEGIN:VEVENT
DTSTAMP:20260423T142307Z
CREATED:20150114T191506Z
UID:ATEvent-489af903-ef81-41ca-8457-96eb7fba5669
LAST-MODIFIED:20150122T154617Z
SUMMARY:Blue Ridge Dog Agility
DTSTART:20150820T120000Z
DTEND:20150824T210000Z
LOCATION:FENCE Equestrian Side
CATEGORIES:Dog Show
CONTACT:Jan\, 864-634-2149\, rocketdogs@bellsouth.net
URL:http://www.blueridgeagility.com
CLASS:PUBLIC
END:VEVENT
END:VCALENDAR
