BEGIN:VCALENDAR
PRODID:-//AT Content Types//AT Event//EN
VERSION:1.0
BEGIN:VEVENT
DTSTART:20150424T040000Z
DTEND:20150426T160000Z
DCREATED:20150114T162204Z
UID:ATEvent-98595442-b9ff-4217-a9ad-f07ddc6dbec6
SEQUENCE:0
LAST-MODIFIED:20150122T154519Z
SUMMARY:Blue Ridge Dog Agility
LOCATION:FENCE Equestrian Side
PRIORITY:3
TRANSP:0
END:VEVENT
END:VCALENDAR
