BEGIN:VCALENDAR
PRODID:-//AT Content Types//AT Event//EN
VERSION:2.0
METHOD:PUBLISH
BEGIN:VEVENT
DTSTAMP:20260423T142404Z
CREATED:20211213T172811Z
UID:ATEvent-d17114deb02d41279160d7600ac4d50d
LAST-MODIFIED:20211213T172811Z
SUMMARY:Blue Ridge Dog Agility
DTSTART:20220908T110000Z
DTEND:20220911T220000Z
LOCATION:Equestrian side
CATEGORIES:Dog Show
CLASS:PUBLIC
END:VEVENT
END:VCALENDAR
