BEGIN:VCALENDAR
PRODID:-//AT Content Types//AT Event//EN
VERSION:1.0
BEGIN:VEVENT
DTSTART:20220429T110000Z
DTEND:20220501T220000Z
DCREATED:20211213T165232Z
UID:ATEvent-e19d639adfe7462a8c374b257f715e6c
SEQUENCE:0
LAST-MODIFIED:20211213T165233Z
SUMMARY:Blue Ridge Dog Agility
LOCATION:Equestrian side
PRIORITY:3
TRANSP:0
END:VEVENT
END:VCALENDAR
