BEGIN:VCALENDAR
PRODID:-//AT Content Types//AT Event//EN
VERSION:1.0
BEGIN:VEVENT
DTSTART:20210909T130000Z
DTEND:20210912T200000Z
DCREATED:20210127T134305Z
UID:ATEvent-27b7b86eb93f4bb8974b4c18b631d1bb
SEQUENCE:0
LAST-MODIFIED:20210127T134305Z
SUMMARY:Blue Ridge Dog Agility
LOCATION:FENCE Equestrian Side
PRIORITY:3
TRANSP:0
END:VEVENT
END:VCALENDAR
