BEGIN:VCALENDAR
PRODID:-//AT Content Types//AT Event//EN
VERSION:1.0
BEGIN:VEVENT
DTSTART:20200917T120000Z
DTEND:20200921T210000Z
DCREATED:20200110T212331Z
UID:ATEvent-31d077d440c84c8d8d097f32ca180c51
SEQUENCE:0
LAST-MODIFIED:20200814T195635Z
SUMMARY:Blue Ridge Dog Agility
LOCATION:FENCE Equestrian Side
PRIORITY:3
TRANSP:0
END:VEVENT
END:VCALENDAR
