BEGIN:VCALENDAR
PRODID:-//AT Content Types//AT Event//EN
VERSION:2.0
METHOD:PUBLISH
BEGIN:VEVENT
DTSTAMP:20260423T191308Z
CREATED:20190123T134329Z
UID:ATEvent-57616ba45e744ab5a3ec05e1e6465599
LAST-MODIFIED:20190221T153415Z
SUMMARY:Blue Ridge Dog Agility
DTSTART:20190816T120000Z
DTEND:20190819T210000Z
LOCATION:FENCE Equestrian Side
CATEGORIES:Dog Show
URL:https://blueridgeagility.com
CLASS:PUBLIC
END:VEVENT
END:VCALENDAR
