BEGIN:VCALENDAR
PRODID:-//AT Content Types//AT Event//EN
VERSION:1.0
BEGIN:VEVENT
DTSTART:20190420T120000Z
DTEND:20190421T210000Z
DCREATED:20190103T205709Z
UID:ATEvent-87bb59d00c3743979837e3c8668a5d60
SEQUENCE:0
LAST-MODIFIED:20190221T153245Z
SUMMARY:Blue Ridge Dog Agility
LOCATION:FENCE Equestrian Side
PRIORITY:3
TRANSP:0
END:VEVENT
END:VCALENDAR
