BEGIN:VCALENDAR
PRODID:-//AT Content Types//AT Event//EN
VERSION:1.0
BEGIN:VEVENT
DTSTART:20140822T120000Z
DTEND:20140825T210000Z
DCREATED:20140103T194615Z
UID:ATEvent-8c45bcb0-4ad2-4e6b-bee1-e04a3a9253ed
SEQUENCE:0
LAST-MODIFIED:20140103T194615Z
SUMMARY:Blue Ridge Dog Agility
PRIORITY:3
TRANSP:0
END:VEVENT
END:VCALENDAR
