BEGIN:VCALENDAR
PRODID:-//AT Content Types//AT Event//EN
VERSION:1.0
BEGIN:VEVENT
DTSTART:20220729T120000Z
DTEND:20220731T200000Z
DCREATED:20220726T124454Z
UID:ATEvent-3e0605fbd6c74c2a87810bdd3341d7f5
SEQUENCE:0
LAST-MODIFIED:20220726T124454Z
SUMMARY:Blue Ridge Agility
LOCATION:FENCE Equestrian Side
PRIORITY:3
TRANSP:0
END:VEVENT
END:VCALENDAR
