BEGIN:VCALENDAR
PRODID:-//AT Content Types//AT Event//EN
VERSION:2.0
METHOD:PUBLISH
BEGIN:VEVENT
DTSTAMP:20260423T140847Z
CREATED:20230117T201123Z
UID:ATEvent-433bc7c83343433ab81411eed437df98
LAST-MODIFIED:20230117T201123Z
SUMMARY:Blue Ridge Agility Show
DTSTART:20230728T120000Z
DTEND:20230730T210000Z
LOCATION:FENCE Equestrian Side
CATEGORIES:Dog Show
CLASS:PUBLIC
END:VEVENT
END:VCALENDAR
