BEGIN:VCALENDAR
PRODID:-//AT Content Types//AT Event//EN
VERSION:1.0
BEGIN:VEVENT
DTSTART:20230428T120000Z
DTEND:20230430T210000Z
DCREATED:20230117T195647Z
UID:ATEvent-5ec333eb168d449dabd7f7ac9ce55cfc
SEQUENCE:0
LAST-MODIFIED:20230117T195647Z
SUMMARY:Blue Ridge Agility Club
LOCATION:FENCE Equestrian Side
PRIORITY:3
TRANSP:0
END:VEVENT
END:VCALENDAR
