BEGIN:VCALENDAR
PRODID:-//AT Content Types//AT Event//EN
VERSION:1.0
BEGIN:VEVENT
DTSTART:20260424T120000Z
DTEND:20260426T230000Z
DCREATED:20260122T191854Z
UID:ATEvent-9da2a0f0052d44118dc507f6a3a2adf0
SEQUENCE:0
LAST-MODIFIED:20260122T191905Z
SUMMARY:Blue Ridge Agility Club
PRIORITY:3
TRANSP:0
END:VEVENT
END:VCALENDAR
