BEGIN:VCALENDAR
PRODID:-//AT Content Types//AT Event//EN
VERSION:2.0
METHOD:PUBLISH
BEGIN:VEVENT
DTSTAMP:20260423T115706Z
CREATED:20260122T191827Z
UID:ATEvent-5beb262abd79462b91b2f3011889439e
LAST-MODIFIED:20260122T191827Z
SUMMARY:Blue Ridge Agility Club
DTSTART:20260424T130000Z
DTEND:20260425T000000Z
CONTACT:Lynn Hurley
CLASS:PUBLIC
END:VEVENT
END:VCALENDAR
